BEGIN:VCALENDAR
VERSION:2.0
PRODID:-//Martin Schüler - Opernregisseur - ECPv6.0.9//NONSGML v1.0//EN
CALSCALE:GREGORIAN
METHOD:PUBLISH
X-WR-CALNAME:Martin Schüler - Opernregisseur
X-ORIGINAL-URL:https://martinschueler.net
X-WR-CALDESC:Veranstaltungen für Martin Schüler - Opernregisseur
REFRESH-INTERVAL;VALUE=DURATION:PT1H
X-Robots-Tag:noindex
X-PUBLISHED-TTL:PT1H
BEGIN:VTIMEZONE
TZID:UTC
BEGIN:STANDARD
TZOFFSETFROM:+0000
TZOFFSETTO:+0000
TZNAME:UTC
DTSTART:20170101T000000
END:STANDARD
END:VTIMEZONE
BEGIN:VEVENT
DTSTART;VALUE=DATE:20170725
DTEND;VALUE=DATE:20170801
DTSTAMP:20260420T060345
CREATED:20171101T070000Z
LAST-MODIFIED:20171101T070000Z
UID:10805-1500940800-1501545599@martinschueler.net
SUMMARY:The Isley Brothers
DESCRIPTION:Cras dapibus ullamcorper dictum. Vivamus nec erat placerat felis scelerisque porttitor in ac turpis. In nec imperdiet turpis. Suspendisse quis orci ut orci pulvinar eleifend. Nulla eu mattis ipsum. Integer eget sagittis nulla. Praesent consectetur lacus et maximus eleifend. Integer non lacus dui. Mauris tortor diam\, laoreet quis commodo vitae\, sodales vel augue.| Sed rutrum\, libero non pretium tristique\, arcu mi sollicitudin ex\, quis venenatis orci tellus vel dolor. Donec gravida\, dolor ut auctor facilisis\, enim dolor pellentesque lectus\, nec vehicula nibh risus ac leo. Mauris volutpat aliquam tellus nec rhoncus. Aliquam et nibh pulvinar\, sodales nibh et\, pretium urna. Vivamus quam augue\, maximus in consequat imperdiet\, iaculis non nibh. Aliquam erat volutpat. Curabitur venenatis massa sed lacus tristique\, non auctor nisl sodales. Sed ultricies lacus ut libero faucibus fringilla. Ut nisi tellus\, posuere vel mattis nec\, convallis a metus. Nullam elementum molestie felis nec lobortis. Cras at justo eu elit semper tempor sed quis orci. In risus magna\, malesuada vel elementum ut\, finibus et nunc.[cmsmasters_tc_event_tickets shortcode_id=“5rua82idqo“ event=“15197″ link=“Add to Tickets Cart“ type=“Ticket Type“ price=“Price“ cart=“Tickets Cart“ quantity=“Qty.“ soldout=“Tickets are sold out.“ show_quantity=“true“ link_type=“cart“ animation_delay=“0″] \n 
URL:https://martinschueler.net/event/the-isley-brothers/
LOCATION:Motion Theater\, 233 Main St\, New York\, United States
CATEGORIES:Program
ORGANIZER;CN="Nick%20Sims":MAILTO:sims@example.com
END:VEVENT
BEGIN:VEVENT
DTSTART;VALUE=DATE:20170718
DTEND;VALUE=DATE:20170729
DTSTAMP:20260420T060345
CREATED:20171003T070000Z
LAST-MODIFIED:20171003T070000Z
UID:10800-1500336000-1501286399@martinschueler.net
SUMMARY:June Historic Tour
DESCRIPTION:Cras dapibus ullamcorper dictum. Vivamus nec erat placerat felis scelerisque porttitor in ac turpis. In nec imperdiet turpis. Suspendisse quis orci ut orci pulvinar eleifend. Nulla eu mattis ipsum. Integer eget sagittis nulla. Praesent consectetur lacus et maximus eleifend. Integer non lacus dui. Mauris tortor diam\, laoreet quis commodo vitae\, sodales vel augue.| Sed rutrum\, libero non pretium tristique\, arcu mi sollicitudin ex\, quis venenatis orci tellus vel dolor. Donec gravida\, dolor ut auctor facilisis\, enim dolor pellentesque lectus\, nec vehicula nibh risus ac leo. Mauris volutpat aliquam tellus nec rhoncus. Aliquam et nibh pulvinar\, sodales nibh et\, pretium urna. Vivamus quam augue\, maximus in consequat imperdiet\, iaculis non nibh. Aliquam erat volutpat. Curabitur venenatis massa sed lacus tristique\, non auctor nisl sodales. Sed ultricies lacus ut libero faucibus fringilla. Ut nisi tellus\, posuere vel mattis nec\, convallis a metus. Nullam elementum molestie felis nec lobortis. Cras at justo eu elit semper tempor sed quis orci. In risus magna\, malesuada vel elementum ut\, finibus et nunc.[cmsmasters_tc_event_tickets shortcode_id=“2zuw4n9frh“ event=“15311″ link=“Add to Tickets Cart“ type=“Ticket Type“ price=“Price“ cart=“Tickets Cart“ quantity=“Qty.“ soldout=“Tickets are sold out.“ show_quantity=“true“ link_type=“cart“ animation_delay=“0″] \n  \n 
URL:https://martinschueler.net/event/june-historic-tour/
LOCATION:Motion Theater\, 233 Main St\, New York\, United States
CATEGORIES:Action
ORGANIZER;CN="Nick%20Sims":MAILTO:sims@example.com
END:VEVENT
BEGIN:VEVENT
DTSTART;VALUE=DATE:20170709
DTEND;VALUE=DATE:20170721
DTSTAMP:20260420T060345
CREATED:20170707T220000Z
LAST-MODIFIED:20170707T220000Z
UID:10803-1499558400-1500595199@martinschueler.net
SUMMARY:Sister Act\, Abundantly!
DESCRIPTION:Cras dapibus ullamcorper dictum. Vivamus nec erat placerat felis scelerisque porttitor in ac turpis. In nec imperdiet turpis. Suspendisse quis orci ut orci pulvinar eleifend. Nulla eu mattis ipsum. Integer eget sagittis nulla. Praesent consectetur lacus et maximus eleifend. Integer non lacus dui. Mauris tortor diam\, laoreet quis commodo vitae\, sodales vel augue.| Sed rutrum\, libero non pretium tristique\, arcu mi sollicitudin ex\, quis venenatis orci tellus vel dolor. Donec gravida\, dolor ut auctor facilisis\, enim dolor pellentesque lectus\, nec vehicula nibh risus ac leo. Mauris volutpat aliquam tellus nec rhoncus. Aliquam et nibh pulvinar\, sodales nibh et\, pretium urna. Vivamus quam augue\, maximus in consequat imperdiet\, iaculis non nibh. Aliquam erat volutpat. Curabitur venenatis massa sed lacus tristique\, non auctor nisl sodales. Sed ultricies lacus ut libero faucibus fringilla. Ut nisi tellus\, posuere vel mattis nec\, convallis a metus. Nullam elementum molestie felis nec lobortis. Cras at justo eu elit semper tempor sed quis orci. In risus magna\, malesuada vel elementum ut\, finibus et nunc.[cmsmasters_tc_event_tickets shortcode_id=“gb4vso2ef“ event=“15321″ link=“Add to Tickets Cart“ type=“Ticket Type“ price=“Price“ cart=“Tickets Cart“ quantity=“Qty.“ soldout=“Tickets are sold out.“ show_quantity=“true“ link_type=“cart“ animation_delay=“0″] \n 
URL:https://martinschueler.net/event/sister-act-abundantly/
LOCATION:Motion Theater\, 233 Main St\, New York\, United States
CATEGORIES:Program
ATTACH;FMTTYPE=image/jpeg:https://martinschueler.net/wp-content/uploads/0207/07/04.jpg
ORGANIZER;CN="Nick%20Sims":MAILTO:sims@example.com
END:VEVENT
BEGIN:VEVENT
DTSTART;VALUE=DATE:20170701
DTEND;VALUE=DATE:20170709
DTSTAMP:20260420T060345
CREATED:20170611T220000Z
LAST-MODIFIED:20170611T220000Z
UID:10801-1498867200-1499558399@martinschueler.net
SUMMARY:Big  Music Awards
DESCRIPTION:Cras dapibus ullamcorper dictum. Vivamus nec erat placerat felis scelerisque porttitor in ac turpis. In nec imperdiet turpis. Suspendisse quis orci ut orci pulvinar eleifend. Nulla eu mattis ipsum. Integer eget sagittis nulla. Praesent consectetur lacus et maximus eleifend. Integer non lacus dui. Mauris tortor diam\, laoreet quis commodo vitae\, sodales vel augue.| Sed rutrum\, libero non pretium tristique\, arcu mi sollicitudin ex\, quis venenatis orci tellus vel dolor. Donec gravida\, dolor ut auctor facilisis\, enim dolor pellentesque lectus\, nec vehicula nibh risus ac leo. Mauris volutpat aliquam tellus nec rhoncus. Aliquam et nibh pulvinar\, sodales nibh et\, pretium urna. Vivamus quam augue\, maximus in consequat imperdiet\, iaculis non nibh. Aliquam erat volutpat. Curabitur venenatis massa sed lacus tristique\, non auctor nisl sodales. Sed ultricies lacus ut libero faucibus fringilla. Ut nisi tellus\, posuere vel mattis nec\, convallis a metus. Nullam elementum molestie felis nec lobortis. Cras at justo eu elit semper tempor sed quis orci. In risus magna\, malesuada vel elementum ut\, finibus et nunc. \n[cmsmasters_tc_event_tickets shortcode_id=“89jsitaaf“ event=“15195″ link=“Add to Tickets Cart“ type=“Ticket Type“ price=“Price“ cart=“Tickets Cart“ quantity=“Qty.“ soldout=“Tickets are sold out.“ show_quantity=“true“ link_type=“cart“ animation_delay=“0″]
URL:https://martinschueler.net/event/big-music-awards/
LOCATION:Motion Theater\, 233 Main St\, New York\, United States
CATEGORIES:Action
ORGANIZER;CN="Nick%20Sims":MAILTO:sims@example.com
END:VEVENT
END:VCALENDAR